Workbook

Sheet Pag0
A24: INFORMACIÓN ESTADÍSTICA
A25: 2025

Sheet Pag1

Sheet Pag2
A1: RESULTADOS DE ENERGÍA
A2: RESUMEN DE PRODUCCIÓN DE ENERGÍA (GWh)
B4: ENE | C4: FEB | D4: MAR | E4: ABR | F4: MAY | G4: JUN | H4: JUL | I4: AGO | J4: SEP | K4: OCT | L4: NOV | M4: DIC | N4: TOTAL
A5: + PRODUCCIÓN S. N. I. | B5: 1071.5509 | C5: 990.00915 | D5: 1181.3614 | E5: 1129.7301 | F5: 1136.9156 | G5: 1058.6954 | H5: 1087.6723 | I5: 1121.1981 | J5: 1127.7605 | K5: 1155.28 | L5: 1091.5076 | M5: 1156.7305 | N5: =SUM(B5:M5) -> 13308.411
A6: + IMPORTACIÓN | B6: 162.12359 | C6: 176.50812 | D6: 189.57312 | E6: 165.44033 | F6: 228.01882 | G6: 207.95297 | H6: 247.43193 | I6: 231.2244 | J6: 188.00836 | K6: 211.16445 | L6: 209.81088 | M6: 170.28444 | N6: =SUM(B6:M6) -> 2387.5414
A7: + DESVIACIONES* | B7: 4.7868898 | C7: 4.7529684 | D7: 6.202923 | E7: 6.0830385 | F7: 5.0187717 | G7: 4.5986726 | H7: 5.2168829 | I7: 4.8256582 | J7: 4.8467277 | K7: 4.9257122 | L7: 3.7622573 | M7: 4.6376219 | N7: =SUM(B7:M7) -> 59.658124
A8: TOTAL | B8: =SUM(B5:B7) -> 1238.4614 | C8: =SUM(C5:C7) -> 1171.2702 | D8: =SUM(D5:D7) -> 1377.1374 | E8: =SUM(E5:E7) -> 1301.2534 | F8: =SUM(F5:F7) -> 1369.9532 | G8: =SUM(G5:G7) -> 1271.247 | H8: =SUM(H5:H7) -> 1340.3211 | I8: =SUM(I5:I7) -> 1357.2481 | ... N8: =SUM(N5:N7) -> 15755.611
A9: * Desviaciones y energias inadvertidas de Importación
E12: =J13 -> PLANTAS HIDRÁULICAS | F12: =M13 -> 0.34704041 | L12: GWh | M12: %
E13: =J14 -> TURBINAS DE VAPOR | F13: =M14 -> 0.21278442 | J13: PLANTAS HIDRÁULICAS | L13: 5467.8337 | M13: =L13/$L$23 -> 0.34704041
E14: =J15 -> COGENERADORES (**) | F14: =M15 -> 0.16779358 | J14: TURBINAS DE VAPOR | L14: 3352.5485 | M14: =L14/$L$23 -> 0.21278442
E15: =J16 -> MOTORES RECIPROCANTES | F15: =M16 -> 0.038141131 | J15: COGENERADORES (**) | L15: 2643.6904 | M15: =L15/$L$23 -> 0.16779358
E16: =J17 -> EÓLICA | F16: =M17 -> 0.021757401 | J16: MOTORES RECIPROCANTES | L16: 600.93683 | M16: =L16/$L$23 -> 0.038141131
E17: =J18 -> GEOTÉRMICAS | F17: =M18 -> 0.017076622 | J17: EÓLICA | L17: 342.80115 | M17: =L17/$L$23 -> 0.021757401
E18: =J19 -> FOTOVOLTAÍCA | F18: =M19 -> 0.033656329 | J18: GEOTÉRMICAS | L18: 269.05261 | M18: =L18/$L$23 -> 0.017076622
E19: =J20 -> TURBINAS DE GAS | F19: =M20 -> 0.0064276961 | J19: FOTOVOLTAÍCA | L19: 530.27603 | M19: =L19/$L$23 -> 0.033656329
E20: =J21 -> IMPORTACIONES | F20: =M21 -> 0.15153595 | J20: TURBINAS DE GAS | L20: 101.27228 | M20: =L20/$L$23 -> 0.0064276961
E21: =J22 -> DESVIACIONES | F21: =M22 -> 0.0037864685 | J21: IMPORTACIONES | L21: 2387.5414 | M21: =L21/$L$23 -> 0.15153595
J22: DESVIACIONES | L22: 59.658124 | M22: =L22/$L$23 -> 0.0037864685
J23: TOTAL | L23: =SUM(L13:L22) -> 15755.611 | M23: =SUM(M13:M22) -> 1
J24: ** Turbinas de vapor.
A27: RESUMEN DE CONSUMO DE ENERGÍA (GWh)
B29: ENE | C29: FEB | D29: MAR | E29: ABR | F29: MAY | G29: JUN | H29: JUL | I29: AGO | J29: SEP | K29: OCT | L29: NOV | M29: DIC | N29: TOTAL
A30: - CONSUMO S. N. I. | B30: 1129.2578 | C30: 1054.6632 | D30: 1211.8481 | E30: 1158.5459 | F30: 1258.2538 | G30: 1155.0088 | H30: 1210.7329 | I30: 1215.6065 | J30: 1177.8881 | K30: 1210.975 | L30: 1164.955 | M30: 1188.721 | N30: =SUM(B30:M30) -> 14136.456
A31: - EXPORTACIÓN | B31: 71.811154 | C31: 79.790431 | D31: 119.59065 | E31: 99.684905 | F31: 65.581066 | G31: 74.396952 | H31: 87.354008 | I31: 98.220737 | J31: 97.396082 | K31: 109.98095 | L31: 103.01305 | M31: 101.94455 | N31: =SUM(B31:M31) -> 1108.7645
A32: - DESVIACIONES *** | B32: 4.4628569 | C32: 3.8672135 | D32: 4.6181877 | E32: 3.9565521 | F32: 4.3999057 | G32: 4.3245554 | H32: 4.1859807 | I32: 3.9041287 | J32: 4.2224926 | K32: 6.0640864 | L32: 4.0025627 | M32: 4.302197 | N32: =SUM(B32:M32) -> 52.310719
A33: - PÉRDIDAS | B33: 32.929643 | C33: 32.949404 | D33: 41.080432 | E33: 39.066043 | F33: 41.718432 | G33: 37.516666 | H33: 38.048225 | I33: 39.516744 | J33: 41.108919 | K33: 44.350125 | L33: 33.110083 | M33: 36.684883 | N33: =SUM(B33:M33) -> 458.0796
A34: TOTAL | B34: =SUM(B30:B33) -> 1238.4614 | C34: =SUM(C30:C33) -> 1171.2702 | D34: =SUM(D30:D33) -> 1377.1374 | E34: =SUM(E30:E33) -> 1301.2534 | F34: =SUM(F30:F33) -> 1369.9532 | G34: =SUM(G30:G33) -> 1271.247 | H34: =SUM(H30:H33) -> 1340.3211 | I34: =SUM(I30:I33) -> 1357.2481 | ... N34: =SUM(N30:N33) -> 15755.611 | O34: =((N8-N31-N32)*1000)/('Pag7'!N16*365*24) -> 0.75584238
A35: *** Desviaciones y energias inadvertidas de Exportación
A38: COMPOSICIÓN POR TIPO DE CONSUMO DE ENERGÍA
C39: GWh | D39: % | Q39: DISTRIBUIDORES | R39: =C40 -> 9608.2978
A40: DISTRIBUIDORES | C40: 9608.2978 | D40: =C40/$C$47 -> 0.60983347 | G40: =A40 -> DISTRIBUIDORES | H40: =D40 -> 0.60983347 | I40: =TRUNC(ROUND(H40*100,1),1) -> 61 | Q40: COMERCIALIZADORES * | R40: =C41 -> 4398.9963
A41: COMERCIALIZADORES **** | C41: 4398.9963 | D41: =C41/$C$47 -> 0.27920192 | G41: =A41 -> COMERCIALIZADORES **** | H41: =D41 -> 0.27920192 | I41: =TRUNC(ROUND(H41*100,1),1) -> 27.9 | Q41: GRANDES USUARIOS PARTICIPANTES | R41: =C43 -> 34.720144
A42: CONSUMOS PROPIOS | C42: 94.44 | D42: =C42/$C$47 -> 0.0059940558 | G42: =A42 -> CONSUMOS PROPIOS | H42: =D42 -> 0.0059940558 | I42: =TRUNC(ROUND(H42*100,1),1) -> 0.6 | Q42: EXPORTACIONES | R42: =C45+C46 -> 1161.0753
A43: GRANDES USUARIOS PARTICIPANTES | C43: 34.720144 | D43: =C43/$C$47 -> 0.0022036688 | G43: =A43 -> GRANDES USUARIOS PARTICIPANTES | H43: =D43 -> 0.0022036688 | I43: =TRUNC(ROUND(H43*100,1),1) -> 0.2 | Q43: PÉRDIDAS | R43: =C44 -> 458.0796
A44: PÉRDIDAS | C44: 458.0796 | D44: =C44/$C$47 -> 0.029074065 | G44: =A44 -> PÉRDIDAS | H44: =D44 -> 0.029074065 | I44: =TRUNC(ROUND(H44*100,1),1) -> 2.9 | Q44: CONSUMOS PROPIOS | R44: =C42 -> 94.44
A45: EXPORTACIONES | C45: 1108.7645 | D45: =C45/$C$47 -> 0.070372686 | G45: =A45 -> EXPORTACIONES | H45: =D45 -> 0.070372686 | I45: =TRUNC(ROUND(H45*100,1),1) -> 7
A46: DESVIACIONES | C46: 52.310719 | D46: =C46/$C$47 -> 0.0033201331 | G46: =A46 -> DESVIACIONES | H46: =D46 -> 0.0033201331 | I46: =TRUNC(ROUND(H46*100,1),1) -> 0.3
A47: TOTAL | C47: =SUM(C40:C46) -> 15755.609 | D47: =SUM(D40:D46) -> 1
A49: **** Comercializadores: Consumo de Grandes Usuarios a través de Comercializadores
...

Sheet Pag3
A1: PARTICIPACIÓN EN LA PRODUCCIÓN DE ENERGÍA (GWh) | P1: 1000000
A3: PARTICIPANTES | B3: ENE | C3: FEB | D3: MAR | E3: ABR | F3: MAY | G3: JUN | H3: JUL | I3: AGO | J3: SEP | K3: OCT | L3: NOV | M3: DIC | N3: TOTAL
A4: AGEN, S. A. | B4: 1.3630054 | C4: 1.0124937 | D4: 0.84242392 | E4: 1.0725259 | F4: 1.400348 | G4: 2.0134759 | H4: 1.7510013 | I4: 1.7408129 | J4: 2.5100319 | K4: 1.9707251 | L4: 1.6343109 | M4: 1.3413335 | N4: =SUM(B4:M4) -> 18.652488
A5: AGRICOLA LA ENTRADA, S. A. | B5: 0.70371236 | C5: 0.43607703 | D5: 0.40569894 | E5: 0.60387129 | F5: 1.1888825 | G5: 2.7403634 | H5: 2.1516386 | I5: 2.3317041 | J5: 3.1494612 | K5: 3.2327739 | L5: 2.1098867 | M5: 1.1005031 | N5: =SUM(B5:M5) -> 20.154573
A6: AGRO COMERCIALIZADORA DEL POLOCHIC, S. A. | B6: 3.5165462 | C6: 2.3077979 | D6: 1.9585238 | E6: 1.6536129 | F6: 1.5669193 | G6: 6.087121 | H6: 4.8235645 | I6: 4.2486015 | J6: 6.6503594 | K6: 3.9971967 | L6: 4.2770159 | M6: 3.9647342 | N6: =SUM(B6:M6) -> 45.051993
A7: AGRO COMERCIALIZADORA DEL POLOCHIC, S. A. (IMPORTACIÓN) | B7: 0.266281 | C7: 0.021446 | D7: 0.100988 | E7: 0.280913 | F7: 0.065188 | G7: 0.01349 | H7: 0.079196 | I7: 0.108484 | J7: 0.016873 | K7: 0.142635 | L7: 0 | M7: 0.100242 | N7: =SUM(B7:M7) -> 1.195736
A8: AGRO MOLLER, S. A. | B8: 0 | C8: 0 | D8: 0 | E8: 0 | F8: 0 | G8: 0 | H8: 0 | I8: 0 | J8: 0 | K8: 0 | L8: 0.51177051 | M8: 0.89038589 | N8: =SUM(B8:M8) -> 1.4021564
A9: AGROFORESTAL EL CEDRO, S. A. | B9: 0.21563558 | C9: 0.37867652 | D9: 0.475916 | E9: 0.45589599 | F9: 0.46689479 | G9: 0.45624864 | H9: 0.46830385 | I9: 0.46991175 | J9: 0.48916227 | K9: 0.48179045 | L9: 0.45773385 | M9: 0.4683904 | N9: =SUM(B9:M9) -> 5.2845601
A10: AGROGENERADORA, S. A. | B10: 0.72265159 | C10: 0.677045 | D10: 0.73160338 | E10: 0.38427045 | F10: 0.3881855 | G10: 0.43183811 | H10: 0.37223828 | I10: 0.35210256 | J10: 0.37490607 | K10: 0.34097015 | L10: 0.28155726 | M10: 0.34201967 | N10: =SUM(B10:M10) -> 5.399388
A11: AGROINDUSTRIAL PIEDRA NEGRA, S. A. | B11: 1.6263416 | C11: 1.5929352 | D11: 1.088159 | E11: 1.6204387 | F11: 1.1428988 | G11: 2.2850834 | H11: 2.1875231 | I11: 2.3490985 | J11: 2.6309387 | K11: 2.7690817 | L11: 1.1604324 | M11: 1.7460782 | N11: =SUM(B11:M11) -> 22.199009
A12: AGROPECUARIA ALTORR, S. A. | B12: 0.56806175 | C12: 0.60330252 | D12: 0.51445291 | E12: 0.62400779 | F12: 0.65349792 | G12: 0.65355287 | H12: 0.622798 | I12: 0.60027843 | J12: 0.60021459 | K12: 0.63482392 | L12: 0.622718 | M12: 0.64197823 | N12: =SUM(B12:M12) -> 7.339687
A13: AGROPECUARIA LA LAGUNA, S. A. | B13: 0 | C13: 0 | D13: 0 | E13: 0 | F13: 0 | G13: 0 | H13: 0.16166427 | I13: 0.18203874 | J13: 0.16913374 | K13: 0.16751303 | L13: 0.20156455 | M13: 0.21156996 | N13: =SUM(B13:M13) -> 1.0934843
A14: AGROPROP, S. A. | B14: 0.2624811 | C14: 0.17800102 | D14: 0.1308291 | E14: 0.18824379 | F14: 0.26979466 | G14: 0.64031551 | H14: 0.58451355 | I14: 0.620241 | J14: 0.71774543 | K14: 0.85040234 | L14: 0.71669573 | M14: 0.52449148 | N14: =SUM(B14:M14) -> 5.6837547
A15: AGUILAR, ARIMANY, ASOCIADOS CONSULTORES, S. A. | B15: 3.6768242 | C15: 2.860926 | D15: 3.37885 | E15: 2.9720977 | F15: 1.9447208 | G15: 2.3900451 | H15: 3.1562839 | I15: 3.1814236 | J15: 2.9785894 | K15: 3.7073145 | L15: 3.4968328 | M15: 2.8398229 | N15: =SUM(B15:M15) -> 36.583731
... A178: XOLHUITZ PROVIDENCIA, S. A. | B178: 0.61180988 | C178: 0.41599934 | D178: 0.37856569 | E178: 0.3949604 | F178: 0.67503763 | G178: 1.4466856 | H178: 1.3483634 | I178: 1.2038845 | J178: 2.1660172 | K178: 2.2488563 | L178: 1.282648 | M178: 0.77269665 | N178: =SUM(B178:M178) -> 12.945525
A179: TOTAL | B179: =SUM(B4:B178) -> 1238.4614 | C179: =SUM(C4:C178) -> 1171.2702 | D179: =SUM(D4:D178) -> 1377.1374 | E179: =SUM(E4:E178) -> 1301.2534 | F179: =SUM(F4:F178) -> 1369.9532 | G179: =SUM(G4:G178) -> 1271.247 | H179: =SUM(H4:H178) -> 1340.3211 | I179: =SUM(I4:I178) -> 1357.2481 | ... N179: =SUM(N4:N178) -> 15755.611

Sheet Pag4
A1: PARTICIPACIÓN EN EL CONSUMO DE ENERGÍA (GWh) | P1: 1000000
A3: PARTICIPANTES | B3: ENE | C3: FEB | D3: MAR | E3: ABR | F3: MAY | G3: JUN | H3: JUL | I3: AGO | J3: SEP | K3: OCT | L3: NOV | M3: DIC | N3: TOTAL
A4: ALTERNATIVA DE ENERGIA RENOVABLE, S. A. (EXPORTACIÓN) | B4: 1.130673 | C4: 2.207725 | D4: 4.531021 | E4: 1.272835 | F4: 0.910828 | G4: 0.94117 | H4: 0.146155 | I4: 0.514058 | J4: 0.142662 | K4: 0 | L4: 0.357149 | M4: 0.058181 | N4: =SUM(B4:M4) -> 12.212457
A5: BIOMASS ENERGY, S. A. (EXPORTACIÓN) | B5: 0 | C5: 0 | D5: 0 | E5: 0 | F5: 0 | G5: 7e-06 | H5: 6.3e-05 | I5: 0.004182 | J5: 0.140079 | K5: 0.031225 | L5: 0.025941 | M5: 0 | N5: =SUM(B5:M5) -> 0.201497
A6: BORAX, S. A. | B6: 0 | C6: 0 | D6: 0 | E6: 0 | F6: 0 | G6: 0 | H6: 0 | I6: 0 | J6: 0 | K6: 0 | L6: 0 | M6: 0.079315097 | N6: =SUM(B6:M6) -> 0.079315097
A7: BORAX, S. A. (EXPORTACIÓN) | B7: 0.110395 | C7: 0 | D7: 0 | E7: 0 | F7: 1.104232 | G7: 1.801013 | H7: 0 | I7: 0 | J7: 0 | K7: 0.000137 | L7: 0 | M7: 0 | N7: =SUM(B7:M7) -> 3.015777
A8: CENTRAL COMERCIALIZADORA DE ENERGIA ELECTRICA, S.A. | B8: 23.389051 | C8: 21.66908 | D8: 24.953193 | E8: 23.142344 | F8: 25.179654 | G8: 22.843512 | H8: 24.331232 | I8: 24.171135 | J8: 23.264734 | K8: 23.673021 | L8: 22.842545 | M8: 22.266528 | N8: =SUM(B8:M8) -> 281.72603
A9: CENTRAL COMERCIALIZADORA DE ENERGIA ELECTRICA, S.A. (EXPORTACIÓN) | B9: 15.972716 | C9: 14.966658 | D9: 19.694107 | E9: 17.837457 | F9: 16.884002 | G9: 16.134084 | H9: 16.901016 | I9: 17.836842 | J9: 18.280991 | K9: 19.118572 | L9: 17.726924 | M9: 17.935803 | N9: =SUM(B9:M9) -> 209.28917
A10: CEPAM GT, S. A. (EXPORTACIÓN) | B10: 1.736215 | C10: 1.29634 | D10: 2.620459 | E10: 2.6599 | F10: 1.02149 | G10: 0.341235 | H10: 0.06969 | I10: 0.056438 | J10: 0.531395 | K10: 0.249053 | L10: 0.002669 | M10: 0.425874 | N10: =SUM(B10:M10) -> 11.010758
A11: COMERCIALIZADORA CENTROAMERICANA DE ENERGIA LA CEIBA, S. A. | B11: 7.2168176 | C11: 6.9158867 | D11: 7.7823919 | E11: 7.1670216 | F11: 7.4721689 | G11: 6.5989491 | H11: 7.1422264 | I11: 6.9760298 | J11: 7.0616898 | K11: 7.1446409 | L11: 7.5436838 | M11: 7.5805379 | N11: =SUM(B11:M11) -> 86.602044
A12: COMERCIALIZADORA DE ENERGIA PARA EL DESARROLLO, S. A. | B12: 48.714853 | C12: 36.177233 | D12: 53.868101 | E12: 51.43188 | F12: 53.194084 | G12: 54.121814 | H12: 55.042937 | I12: 55.050202 | J12: 52.928902 | K12: 55.350375 | L12: 54.053756 | M12: 52.394244 | N12: =SUM(B12:M12) -> 622.32838
A13: COMERCIALIZADORA DE ENERGÍA SAN DIEGO, S. A. | B13: 8.244327 | C13: 8.4879353 | D13: 10.085639 | E13: 9.0329183 | F13: 9.3810606 | G13: 7.9604533 | H13: 8.9305867 | I13: 8.8556655 | J13: 8.692991 | K13: 9.128915 | L13: 9.0762762 | M13: 8.1603178 | N13: =SUM(B13:M13) -> 106.03709
A14: COMERCIALIZADORA ELECTRICA DE GUATEMALA, S. A. (EXPORTACIÓN) | B14: 0.601025 | C14: 1.074355 | D14: 1.195759 | E14: 1.209062 | F14: 0.00467 | G14: 0.468626 | H14: 0.773875 | I14: 1.315269 | J14: 0.141573 | K14: 0.386787 | L14: 2.485757 | M14: 1.897211 | N14: =SUM(B14:M14) -> 11.553969
A15: COMERCIALIZADORA ELECTRICA DE GUATEMALA, S.A. | B15: 79.842582 | C15: 78.662535 | D15: 85.272794 | E15: 77.919496 | F15: 86.281234 | G15: 81.323813 | H15: 77.847452 | I15: 77.893645 | J15: 76.446961 | K15: 78.745625 | L15: 75.14289 | M15: 70.275151 | N15: =SUM(B15:M15) -> 945.65418
... A87: CONSUMO PROPIO | B87: 5.8726215 | C87: 4.9555416 | D87: 4.2451208 | E87: 5.1400929 | F87: 8.5853752 | G87: 9.1530917 | H87: 10.157237 | I87: 9.167132 | J87: 10.856108 | K87: 11.953447 | L87: 8.9352709 | M87: 5.4208932 | N87: =SUM(B87:M87) -> 94.441932
A88: TOTAL | B88: =SUM(B4:B87) -> 1238.4614 | C88: =SUM(C4:C87) -> 1171.2702 | D88: =SUM(D4:D87) -> 1377.1374 | E88: =SUM(E4:E87) -> 1301.2534 | F88: =SUM(F4:F87) -> 1369.9532 | G88: =SUM(G4:G87) -> 1271.247 | H88: =SUM(H4:H87) -> 1340.3211 | I88: =SUM(I4:I87) -> 1357.2481 | ... N88: =SUM(N4:N87) -> 15755.611

Sheet Pag5
A1: GENERACIÓN POR TIPO DE COMBUSTIBLE (GWh)
E2: %
I3: COMBUSTIBLE | K3: GWh | L3: %
I4: RECURSOS HÍDRICOS | K4: 5467.8337 | L4: =K4/$K$17 -> 0.34704041
I5: BIOMASA | K5: 1697.4925 | L5: =K5/$K$17 -> 0.10773892
I6: EÓLICO | K6: 342.80115 | L6: =K6/$K$17 -> 0.021757401
I7: VAPOR GEOTÉRMICO | K7: 269.05261 | L7: =K7/$K$17 -> 0.017076622
I8: SOLAR | K8: 530.27603 | L8: =K8/$K$17 -> 0.033656329
I9: BIOGAS | K9: 20.851908 | L9: =K9/$K$17 -> 0.0013234592
I10: GAS NATURAL | K10: 94.705804 | L10: =K10/$K$17 -> 0.0060109255
I11: SYNGAS | K11: 0.026881638 | L11: =K11/$K$17 -> 1.7061628e-06
I12: CARBÓN | K12: 2654.5857 | L12: =K12/$K$17 -> 0.1684851
I13: COQUE DE PETROLEO | K13: 1612.0296 | L13: =K13/$K$17 -> 0.10231463
I14: BUNKER | K14: 609.80196 | L14: =K14/$K$17 -> 0.038703797
I15: DIESEL | K15: 8.9536253 | L15: =K15/$K$17 -> 0.00056828169
I16: IMPORTACIONES | K16: 2447.1995 | L16: =K16/$K$17 -> 0.15532241
I17: TOTALES | K17: =SUM(K4:K16) -> 15755.611 | L17: =SUM(L4:L16) -> 1
I19: RENOVABLES | K19: =SUM(K4:K11) -> 8423.0406 | L19: =K19/$K$22 -> 0.53460578
I20: NO RENOVABLES | K20: =SUM(K12:K15) -> 4885.3708 | L20: =K20/$K$22 -> 0.31007181
I21: IMPORTACIÓN | K21: =K16 -> 2447.1995 | L21: =K21/$K$22 -> 0.15532241
K22: =SUM(K19:K21) -> 15755.611
C29: CARGA HORARIA PARA EL DÍA DE MÁXIMA DEMANDA DE POTENCIA
C30: Martes 08 de Mayo de 2025 19:00 - 2,204.22 MW
A32: 45785 | B32: Hora | C32: CARGA HORARIA | D32: SPOT
B33: 45055.042 | C33: 1416.79 | D33: 128.07614
B34: 45055.083 | C34: 1364.43 | D34: 141.02775
B35: 45055.125 | C35: 1394.48 | D35: 141.02775
B36: 45055.167 | C36: 1316.41 | D36: 141.02775
B37: 45055.208 | C37: 1487.34 | D37: 114.22012
B38: 45055.25 | C38: 1570.87 | D38: 141.02775
B39: 45055.292 | C39: 1705.4 | D39: 129.89786
B40: 45055.333 | C40: 1816.29 | D40: 129.89786
B41: 45055.375 | C41: 1921.48 | D41: 129.89786
B42: 45055.417 | C42: 1963.35 | D42: 129.89786
B43: 45055.458 | C43: 2040.97 | D43: 129.89786
B44: 45055.479 | C44: 1991.57 | D44: 129.89786
... B56: 45055.802 | C56: 2185.45 | D56: 164.6822
B57: 45055.812 | C57: 2168.97 | D57: 164.6822 | F57: =1/24 -> 0.041666667
B58: 45055.823 | C58: 2167.41 | D58: 164.6822
B59: 45055.833 | C59: 2135.22 | D59: 164.6822
...

Sheet Pag6
A1: MERCADO A TÉRMINO Y DE OPORTUNIDAD DE LA ENERGÍA
A3: TRANSACCIONES EN EL MERCADO A TÉRMINO Y EN EL MERCADO DE OPORTUNIDAD (GWh)*
B5: ENE | C5: FEB | D5: MAR | E5: ABR | F5: MAY | G5: JUN | H5: JUL | I5: AGO | J5: SEP | K5: OCT | L5: NOV | M5: DIC | N5: TOTAL
A6: MERCADO A TÉRMINO | B6: =B37 -> 938.31327 | C6: =C37 -> 921.25764 | D6: =D37 -> 1108.3159 | E6: =E37 -> 1079.5286 | F6: =F37 -> 1070.875 | G6: =G37 -> 1004.463 | H6: =H37 -> 1145.1342 | I6: =I37 -> 1218.3466 | ... M6: =M37 -> 1167.9532 | N6: =SUM(B6:M6) -> 13211.774
A7: MERCADO DE OPORTUNIDAD | B7: 267.2185 | C7: 217.0632 | D7: 227.74108 | E7: 182.65879 | F7: 257.35977 | G7: 229.26739 | H7: 157.13873 | I7: 99.384808 | J7: 106.65912 | K7: 110.2472 | L7: 104.00472 | M7: 127.01452 | N7: =SUM(B7:M7) -> 2085.7578
A8: TOTAL | B8: =SUM(B6,B7) -> 1205.5318 | C8: =SUM(C6,C7) -> 1138.3208 | D8: =SUM(D6,D7) -> 1336.057 | E8: =SUM(E6,E7) -> 1262.1874 | F8: =SUM(F6,F7) -> 1328.2348 | G8: =SUM(G6,G7) -> 1233.7303 | H8: =SUM(H6,H7) -> 1302.2729 | I8: =SUM(I6,I7) -> 1317.7314 | ... M8: =SUM(M6,M7) -> 1294.9677 | N8: =SUM(N6:N7) -> 15297.531
E14: =A6 -> MERCADO A TÉRMINO | F14: =N6 -> 13211.774
E15: =A7 -> MERCADO DE OPORTUNIDAD | F15: =N7 -> 2085.7578
A28: TRANSACCIONES EN EL MERCADO A TÉRMINO POR TIPO DE CONTRATO DE ENERGÍA (GWh) *
A30: TIPO DE CONTRATO | B30: ENE | C30: FEB | D30: MAR | E30: ABR | F30: MAY | G30: JUN | H30: JUL | I30: AGO | J30: SEP | K30: OCT | L30: NOV | M30: DIC | N30: TOTAL
A31: Por diferencias con curva de carga (a) | B31: 351.33971 | C31: 291.95883 | D31: 284.53984 | E31: 269.15051 | F31: 198.96594 | G31: 317.90642 | H31: 392.80803 | I31: 418.23646 | J31: 424.40003 | K31: 471.50219 | L31: 440.46002 | M31: 389.77827 | N31: =SUM(B31:M31) -> 4251.0463
A32: De opción de compra de energía ( c ) | B32: 189.28872 | C32: 262.89517 | D32: 405.66865 | E32: 429.10976 | F32: 496.00256 | G32: 322.54858 | H32: 354.23061 | I32: 394.96878 | J32: 344.19371 | K32: 306.41123 | L32: 286.28146 | M32: 319.95883 | N32: =SUM(B32:M32) -> 4111.5581
A33: Por diferencias por la demanda faltante (d) | B33: 179.32345 | C33: 165.21366 | D33: 176.74947 | E33: 161.66908 | F33: 190.5655 | G33: 181.88467 | H33: 174.51851 | I33: 178.728 | J33: 165.33934 | K33: 169.43698 | L33: 154.48947 | M33: 158.35317 | N33: =SUM(B33:M33) -> 2056.2713
A34: Contratos de energía generada (f) | B34: 148.28354 | C34: 122.89121 | D34: 125.25306 | E34: 121.67485 | F34: 121.84671 | G34: 110.82505 | H34: 137.89531 | I34: 131.04212 | J34: 144.6107 | K34: 164.12347 | L34: 186.09959 | M34: 201.35325 | N34: =SUM(B34:M34) -> 1715.8988
A35: Cumplimiento de transacciones internacionales | B35: 70.077857 | C35: 78.298773 | D35: 116.10487 | E35: 97.924417 | F35: 63.494305 | G35: 71.298225 | H35: 85.681716 | I35: 95.371206 | J35: 94.303744 | K35: 105.29894 | L35: 100.63538 | M35: 98.509658 | N35: =SUM(B35:M35) -> 1076.9991
A36: Respaldo de Energía Generada (Productores) | B36: 12.719227 | C36: 33.337023 | D36: 42.109679 | E36: 42.658475 | F36: 37.401669 | G36: 45.467164 | H36: 50.995458 | I36: 44.854948 | J36: 59.58162 | K36: 62.820876 | L36: 51.374495 | M36: 60.761779 | N36: =SUM(B36:M36) -> 544.08241
A37: TOTAL | B37: =SUM(B31:B35) -> 938.31327 | C37: =SUM(C31:C35) -> 921.25764 | D37: =SUM(D31:D35) -> 1108.3159 | E37: =SUM(E31:E35) -> 1079.5286 | F37: =SUM(F31:F35) -> 1070.875 | G37: =SUM(G31:G35) -> 1004.463 | H37: =SUM(H31:H35) -> 1145.1342 | I37: =SUM(I31:I35) -> 1218.3466 | ... N37: =SUM(N31:N35) -> 13211.774
A38: * Resultados correspondientes a las compras de los Participantes en el Consumo de Energía

Sheet Pag7
A1: RESULTADOS DE ENERGÍA EN EL MERCADO MAYORISTA
B3: ENE | C3: FEB | D3: MAR | E3: ABR | F3: MAY | G3: JUN | H3: JUL | I3: AGO | J3: SEP | K3: OCT | L3: NOV | M3: DIC | N3: TOTAL
A4: VENTAS DE ENERGÍA EN EL MERCADO DE OPORTUNIDAD (GWh) | B4: ='Pag17'!B13 -> 414.45849 | C4: ='Pag17'!C13 -> 355.29175 | D4: ='Pag17'!D13 -> 334.31568 | E4: ='Pag17'!E13 -> 301.95656 | F4: ='Pag17'!F13 -> 401.26579 | G4: ='Pag17'!G13 -> 369.05346 | H4: ='Pag17'!H13 -> 364.82947 | I4: ='Pag17'!I13 -> 370.0207 | ... M4: ='Pag17'!M13 -> 310.00154 | N4: =SUM(B4:M4) -> 4260.0514
A5: COMPRAS DE ENERGÍA EN EL MERCADO DE OPORTUNIDAD (GWh) | B5: ='Pag17'!B55 -> 381.85288 | C5: ='Pag17'!C55 -> 323.2281 | D5: ='Pag17'!D55 -> 294.81998 | E5: ='Pag17'!E55 -> 265.017 | F5: ='Pag17'!F55 -> 360.52622 | G5: ='Pag17'!G55 -> 331.81092 | H5: ='Pag17'!H55 -> 327.81214 | I5: ='Pag17'!I55 -> 331.42549 | ... M5: ='Pag17'!M55 -> 273.65208 | N5: =SUM(B5:M5) -> 3809.6792
A6: IMPORTACIONES DE ENERGÍA DEL MER (GWh) | B6: ='Pag25'!C10 -> 63.08759 | C6: ='Pag25'!D10 -> 39.736121 | D6: ='Pag25'!E10 -> 28.70712 | E6: ='Pag25'!F10 -> 21.919294 | F6: ='Pag25'!G10 -> 92.870307 | G6: ='Pag25'!H10 -> 78.252166 | H6: ='Pag25'!I10 -> 88.429294 | I6: ='Pag25'!J10 -> 81.207594 | ... M6: ='Pag25'!N10 -> 53.877047 | N6: =SUM(B6:M6) -> 730.66355
A7: IMPORTACIONES DE ENERGÍA DE MÉXICO(GWh) | B7: ='Pag26'!C10 -> 99.036 | C7: ='Pag26'!D10 -> 136.772 | D7: ='Pag26'!E10 -> 160.866 | E7: ='Pag26'!F10 -> 143.52104 | F7: ='Pag26'!G10 -> 135.14851 | G7: ='Pag26'!H10 -> 129.70081 | H7: ='Pag26'!I10 -> 159.00264 | I7: ='Pag26'!J10 -> 150.01681 | ... M7: ='Pag26'!N10 -> 116.40739 | N7: =SUM(B7:M7) -> 1656.8779
A8: EXPORTACIONES DE ENERGÍA AL MER (GWh) | B8: ='Pag25'!C9 -> 71.779154 | C8: ='Pag25'!D9 -> 79.790431 | D8: ='Pag25'!E9 -> 119.59065 | E8: ='Pag25'!F9 -> 99.662905 | F8: ='Pag25'!G9 -> 65.389066 | G8: ='Pag25'!H9 -> 73.755952 | H8: ='Pag25'!I9 -> 87.152008 | I8: ='Pag25'!J9 -> 96.565737 | ... M8: ='Pag25'!N9 -> 101.86455 | N8: =SUM(B8:M8) -> 1105.5515
A9: EXPORTACIONES DE ENERGÍA A MÉXICO (GWh) | B9: ='Pag26'!C9 -> 0.032 | C9: ='Pag26'!D9 -> 0 | D9: ='Pag26'!E9 -> 0 | E9: ='Pag26'!F9 -> 0.022 | F9: ='Pag26'!G9 -> 0.192 | G9: ='Pag26'!H9 -> 0.641 | H9: ='Pag26'!I9 -> 0.202 | I9: ='Pag26'!J9 -> 1.655 | ... M9: ='Pag26'!N9 -> 0.08 | N9: =SUM(B9:M9) -> 3.213
A11: RESULTADOS DE POTENCIA EN EL MERCADO MAYORISTA
B13: ENE | C13: FEB | D13: MAR | E13: ABR | F13: MAY | G13: JUN | H13: JUL | I13: AGO | J13: SEP | K13: OCT | L13: NOV | M13: DIC | N13: ANUAL
A14: PROMEDIO DE POTENCIA ASIGNADA PARA RESERVA RODANTE OPERATIVA INTEGRADA (MW) | B14: ='Pag20'!B41 -> 67.69103 | C14: ='Pag20'!C41 -> 61.424965 | D14: ='Pag20'!D41 -> 72.986195 | E14: ='Pag20'!E41 -> 69.8836 | F14: ='Pag20'!F41 -> 76.391215 | G14: ='Pag20'!G41 -> 70.77773 | H14: ='Pag20'!H41 -> 72.99903 | I14: ='Pag20'!I41 -> 74.78039 | ... M14: ='Pag20'!M41 -> 72.101815 | N14: =AVERAGE(B14:M14) -> 71.642034
A15: RESERVA RÁPIDA PROMEDIO ASIGNADA (MW) | B15: ='Pag20'!C48 -> 186.07 | C15: ='Pag20'!D48 -> 196.66 | D15: ='Pag20'!E48 -> 181.14 | E15: ='Pag20'!F48 -> 164.65 | F15: ='Pag20'!G48 -> 152.29 | G15: ='Pag20'!H48 -> 186.7 | H15: ='Pag20'!I48 -> 202.44 | I15: ='Pag20'!J48 -> 191.31 | ... M15: ='Pag20'!N48 -> 135.5 | N15: =AVERAGE(B15:M15) -> 175.98083
A16: DEMANDA DE POTENCIA MÁXIMA (MW) | B16: ='Pag5'!$E77 -> 2033.22 | C16: ='Pag5'!E78 -> 2081.05 | D16: ='Pag5'!E79 -> 2115.83 | E16: ='Pag5'!E80 -> 2135.33 | F16: ='Pag5'!E81 -> 2204.22 | G16: ='Pag5'!E82 -> 2084.12 | H16: ='Pag5'!E83 -> 2106.5 | I16: ='Pag5'!E84 -> 2141.55 | J16: ='Pag5'!E85 -> 2122.07 | K16: ='Pag5'!E86 -> 2116.87 | L16: ='Pag5'!E87 -> 2162.83 | M16: ='Pag5'!E88 -> 2132.53 | N16: =MAX(B16:M16) -> 2204.22
A18: OTROS RESULTADOS DEL MERCADO MAYORISTA EN US$
B20: ENE | C20: FEB | D20: MAR | E20: ABR | F20: MAY | G20: JUN | H20: JUL | I20: AGO | J20: SEP | K20: OCT | L20: NOV | M20: DIC | N20: TOTAL
A21: REMUNERACIÓN POR GENERACIÓN FORZADA | B21: 3227703.9 | C21: 1925827.3 | D21: 3302754.7 | E21: 2583695.8 | F21: 3326477.1 | G21: 5476167.4 | H21: 2490078.4 | I21: 2586787.5 | J21: 3254914.4 | K21: 4329228.3 | L21: 2261075.3 | M21: 2879086.1 | N21: =SUM(B21:M21) -> 37643796
A22: REMUNERACION POR RESERVA RODANTE OPERATIVA | B22: 4673486.3 | C22: 3750426.6 | D22: 4188761 | E22: 4462107.2 | F22: 5548139.2 | G22: 5961690.3 | H22: 4669743.1 | I22: 4202407.3 | J22: 3877614.6 | K22: 4294730 | L22: 3643462.6 | M22: 3755077.8 | N22: =SUM(B22:M22) -> 53027646
A23: RESERVA RÁPIDA MONTO REMUNERADO | B23: 1322583.3 | C23: 1301302.6 | D23: 1240944.2 | E23: 1111015 | F23: 922363.48 | G23: 1109945.9 | H23: 1238818.9 | I23: 1392373.2 | J23: 1099388.3 | K23: 1000398.4 | L23: 943231.93 | M23: 902769.23 | N23: =SUM(B23:M23) -> 13585134
A24: CARGO DEL SALDO PRECIO DE LA POTENCIA Y DE LA ENERGÍA EXCEDENTE DE LOS CONTRATOS EXISTENTES | B24: 63060.096 | C24: 32751.225 | D24: 34846.899 | E24: 62622.249 | F24: 3274.6402 | G24: 35557.961 | H24: 95525.755 | I24: 93868.674 | J24: 83727.647 | K24: 104110.29 | L24: 333138.89 | M24: 154446.19 | N24: =SUM(B24:M24) -> 1096930.5
A25: RESULTADOS DE PEAJE EN EL SISTEMA PRINCIPAL DE TRANSPORTE | B25: 11401413 | C25: 11401413 | D25: 11406016 | E25: 11539662 | F25: 11544036 | G25: 11544652 | H25: 11544652 | I25: 11544652 | J25: 11544652 | K25: 11544652 | L25: 11544652 | M25: 11636316 | N25: =SUM(B25:M25) -> 1.3819677e+08
A26: RESULTADOS DE PEAJE EN EL SISTEMA SECUNDARIO DE TRANSPORTE | B26: 6588020.2 | C26: 6588027.7 | D26: 6586817 | E26: 6588071.3 | F26: 6595237.2 | G26: 6643421.9 | H26: 6668044.6 | I26: 6669211.3 | J26: 6666067.1 | K26: 6669162.3 | L26: 6744534.4 | M26: 6831977.3 | N26: =SUM(B26:M26) -> 79838592
A27: =UPPER('Pag27'!A49) -> EXCEDENTE PRECIOS NODALES | B27: 1732541.4 | C27: 1937155.4 | D27: 2635446.1 | E27: 3147156.6 | F27: 4169870.2 | G27: 2473961 | H27: 2452664.8 | I27: 2579872.1 | J27: 2659603.6 | K27: 2589536.6 | L27: 2090373.3 | M27: 1935152.1 | N27: =SUM(B27:M27) -> 30403333
A30: PRECIOS DE MERCADO
B32: ENE | C32: FEB | D32: MAR | E32: ABR | F32: MAY | G32: JUN | H32: JUL | I32: AGO | J32: SEP | K32: OCT | L32: NOV | M32: DIC
A33: PRECIO SPOT PROMEDIO MENSUAL (US$/MWh) | B33: {=TRANSPOSE('Pag5'!$D$77:$D$88)} -> 60.683131 | C33: 73.980168 | D33: 91.511173 | E33: 106.82619 | F33: 124.06739 | G33: 79.599391 | H33: 84.451048 | I33: 87.242708 | J33: 84.584015 | K33: 73.727422 | L33: 72.299083 | M33: 75.207687 | N33: =AVERAGE(B33:M33) -> 84.51495
A34: PRECIO PROMEDIO MENSUAL EN EL MERCADO ELÉCTRICO REGIONAL (US$/MWh)-Expost- | B34: 618.58655 | C34: 322.61392 | G34: 339.25678 | H34: 529.2333 | N34: =AVERAGE(B34:M34) -> 452.42264
A35: PRECIO PROMEDIO MENSUAL EN EL MERCADO ELÉCTRICO REGIONAL (US$/MWh)-Exante- | B35: 55.880116 | C35: 81.903571 | D35: 128.30554 | E35: 137.36854 | F35: 128.16139 | G35: 93.232093 | H35: 93.573123 | I35: 105.76536 | J35: 109.24563 | K35: 89.985134 | L35: 85.965894 | M35: 97.287527 | N35: =AVERAGE(B35:M35) -> 100.55616
A36: PRECIO PROMEDIO MENSUAL EN EL MERCADO ELÉCTRICO REGIONAL (US$/MWh) | B36: =AVERAGE(B34:B35) -> 337.23333 | C36: =AVERAGE(C34:C35) -> 202.25875 | D36: =AVERAGE(D34:D35) -> 128.30554 | E36: =AVERAGE(E34:E35) -> 137.36854 | F36: =AVERAGE(F34:F35) -> 128.16139 | G36: =AVERAGE(G34:G35) -> 216.24444 | H36: =AVERAGE(H34:H35) -> 311.40321 | I36: =AVERAGE(I34:I35) -> 105.76536 | ... M36: =AVERAGE(M34:M35) -> 97.287527 | N36: =AVERAGE(B36:M36) -> 162.4354
A37: PRECIO TOPE PARA LA RRO (US$/MW-mes) | B37: 225.5386 | C37: 219.8074 | D37: 206.1266 | E37: 195.4618 | F37: 180.4446 | G37: 171.4398 | H37: 169.584 | I37: 169.7796 | J37: 166.9218 | K37: 165.8702 | L37: 165.5402 | M37: 169.03 | N37: =AVERAGE(B37:M37) -> 183.79538
A38: PRECIO POR SERVICIO DE RESERVA RÁPIDA (US$/kW-mes) | B38: ='Pag20'!C49 -> 7.1079881 | C38: ='Pag20'!D49 -> 6.6170172 | D38: ='Pag20'!E49 -> 6.8507464 | E38: ='Pag20'!F49 -> 6.7477378 | F38: ='Pag20'!G49 -> 6.0566254 | G38: ='Pag20'!H49 -> 5.9450772 | H38: ='Pag20'!I49 -> 6.1194374 | I38: ='Pag20'!J49 -> 7.2780993 | ... M38: ='Pag20'!N49 -> 6.6625035 | N38: =AVERAGE(B38:M38) -> 6.4491869
A39: PRECIO DP + (US$/kW-mes) | B39: 1.0748234 | C39: 2.3140626 | D39: 3.9539428 | E39: 4.1812356 | F39: 5.5017846 | G39: 3.4427001 | H39: 4.1187062 | I39: 4.3170472 | J39: 5.8853615 | K39: 7.0397258 | L39: 3.6491342 | M39: 4.1877373 | N39: =AVERAGE(B39:M39) -> 4.1388551
A40: PRECIO DP - (US$/kW-mes) | B40: 8.9 | C40: 8.9 | D40: 8.9 | E40: 8.9 | F40: 8.9 | G40: 8.9 | H40: 8.9 | I40: 8.9 | J40: 8.9 | K40: 8.9 | L40: 8.9 | M40: 8.9 | N40: =AVERAGE(B40:M40) -> 8.9
A41: PRECIO PEAJE PRINCIPAL (US$/kW-mes) | B41: 4.7540301 | C41: 4.7744384 | D41: 4.7714267 | E41: 4.6755657 | F41: 4.6510992 | G41: 4.6444517 | H41: 4.6351384 | I41: 4.6580453 | J41: 4.614257 | K41: 4.6153578 | L41: 4.6336989 | M41: 4.6529032 | N41: =AVERAGE(B41:M41) -> 4.6733677
A42: PRECIO UNITARIO PEAJE SECUNDARIO TRANSMISIÓN (US $ / KW mes) | B42: 0.63120715 | C42: 0.63108592 | D42: 0.63108592 | E42: 0.62984705 | F42: 0.62984705 | G42: 0.62984705 | H42: 0.62984705 | I42: 0.62984705 | J42: 0.62984705 | K42: 0.62984705 | L42: 0.62150077 | M42: 0.62700437 | N42: =AVERAGE(B42:M42) -> 0.62923445
A43: PRECIO UNITARIO PEAJE SECUNDARIO SUBTRANSMISIÓN CENTRO (US $ / KW mes) | B43: 3.3614279 | C43: 3.3381797 | D43: 3.3275903 | E43: 3.2459132 | F43: 3.2368159 | G43: 3.2850035 | H43: 3.2916655 | I43: 3.2908506 | J43: 3.2825177 | K43: 3.2946866 | L43: 3.3472905 | M43: 3.4238314 | N43: =AVERAGE(B43:M43) -> 3.3104811
A44: PRECIO UNITARIO PEJAE SECUNDARIO SUBTRANSMISIÓN OCCIDENTE (US $ / KW mes) | B44: 2.2491549 | C44: 2.2429688 | D44: 2.2369649 | E44: 2.2027038 | F44: 2.2018579 | G44: 2.2127314 | H44: 2.2091216 | I44: 2.2083141 | J44: 2.2048021 | K44: 2.2085516 | L44: 2.1991642 | M44: 2.226324 | N44: =AVERAGE(B44:M44) -> 2.2168883
A45: PRECIO UNITARIO PEAJE SECUNDARIO SUBTRANSMISIÓN ORIENTE (US $ / KW mes) | B45: 2.1607172 | C45: 2.1529754 | D45: 2.1345495 | E45: 1.9830902 | F45: 1.992915 | G45: 2.0263768 | H45: 2.0493698 | I45: 2.0428493 | J45: 2.0414864 | K45: 2.0427406 | L45: 2.0356354 | M45: 2.0620465 | N45: =AVERAGE(B45:M45) -> 2.060396
B50: ENE | C50: FEB | D50: MAR | E50: ABR | F50: MAY | G50: JUN | H50: JUL | I50: AGO | J50: SEP | K50: OCT | L50: NOV | M50: DIC
A51: Generación Forzada | B51: =B21/(('Pag2'!B$30+'Pag2'!B$31)*1000) -> 2.6873594 | C51: =C21/(('Pag2'!C$30+'Pag2'!C$31)*1000) -> 1.6975814 | D51: =D21/(('Pag2'!D$30+'Pag2'!D$31)*1000) -> 2.4805907 | E51: =E21/(('Pag2'!E$30+'Pag2'!E$31)*1000) -> 2.0534354 | F51: =F21/(('Pag2'!F$30+'Pag2'!F$31)*1000) -> 2.5127583 | G51: =G21/(('Pag2'!G$30+'Pag2'!G$31)*1000) -> 4.4543205 | H51: =H21/(('Pag2'!H$30+'Pag2'!H$31)*1000) -> 1.9182678 | I51: =I21/(('Pag2'!I$30+'Pag2'!I$31)*1000) -> 1.9688947 | ... M51: =M21/(('Pag2'!M$30+'Pag2'!M$31)*1000) -> 2.2306989
A52: Reserva Rodante Operativa | B52: =B22/(('Pag2'!B$30+'Pag2'!B$31)*1000) -> 3.8911059 | C52: =C22/(('Pag2'!C$30+'Pag2'!C$31)*1000) -> 3.3059321 | D52: =D22/(('Pag2'!D$30+'Pag2'!D$31)*1000) -> 3.146041 | E52: =E22/(('Pag2'!E$30+'Pag2'!E$31)*1000) -> 3.5463343 | F52: =F22/(('Pag2'!F$30+'Pag2'!F$31)*1000) -> 4.1909601 | G52: =G22/(('Pag2'!G$30+'Pag2'!G$31)*1000) -> 4.8492454 | H52: =H22/(('Pag2'!H$30+'Pag2'!H$31)*1000) -> 3.5974041 | I52: =I22/(('Pag2'!I$30+'Pag2'!I$31)*1000) -> 3.1985996 | ... M52: =M22/(('Pag2'!M$30+'Pag2'!M$31)*1000) -> 2.9094121
...

Sheet Pag8
A1: INDICADORES
B4: 2025
A5: NOMBRE | B5: HORAS
A6: SAN JOSE | B6: 1137
A7: JAGUAR ENERGY U2 | B7: 904
A8: LAS PALMAS II | B8: 862
A9: JAGUAR ENERGY U1 | B9: 856
A10: CHIXOY | B10: 666
A11: GENOR | B11: 627
A12: INGENIO SAN ISIDRO | B12: 448
A13: ARIZONA | B13: 325
A14: TRINIDAD BLOQUE 5 | B14: 288
A15: LA LIBERTAD | B15: 222
A16: INTERCONEXIÓN CON MÉXICO (IMPORTACIÓN EDC-I) | B16: 197
A17: MAGDALENA BLOQUE 6 | B17: 182
... A66: PALO VIEJO | B66: 3
A67: HIDROELÉCTRICA FINCA LORENA | B67: 2 | D67: =D68-C68 -> 31 | E67: =E68-D68 -> 28 | F67: =F68-E68 -> 31 | G67: =G68-F68 -> 30 | H67: =H68-G68 -> 31 | I67: =I68-H68 -> 30 | J67: =J68-I68 -> 31 | K67: =K68-J68 -> 31 | ... O67: =O68-N68 -> 31
A68: HIDROELÉCTRICA SALTO MARINALA | B68: 2 | C68: 45658 | D68: 45689 | E68: 45717 | F68: 45748 | G68: 45778 | H68: 45809 | I68: 45839 | J68: 45870 | K68: 45901 | L68: 45931 | M68: 45962 | N68: 45992 | O68: 46023
A69: HIDROELÉCTRICA CERRO VIVO | B69: 2 | C69: 2020 | D69: ENE | E69: FEB | F69: MAR | G69: ABR | H69: MAY | I69: JUN | J69: JUL | K69: AGO | L69: SEP | M69: OCT | N69: NOV | O69: DIC | P69: PROMEDIO
A70: LAS VACAS | B70: 2 | C70: Factor de Carga del S.N.I. | D70: =(('Pag2'!B8-('Pag2'!B32+'Pag2'!B31))*1000)/('Pag7'!B16*D67*24) -> 0.76827881 | E70: =(('Pag2'!C8-('Pag2'!C32+'Pag2'!C31))*1000)/('Pag7'!C16*E67*24) -> 0.77771852 | F70: =(('Pag2'!D8-('Pag2'!D32+'Pag2'!D31))*1000)/('Pag7'!D16*F67*24) -> 0.79592584 | G70: =(('Pag2'!E8-('Pag2'!E32+'Pag2'!E31))*1000)/('Pag7'!E16*G67*24) -> 0.77896624 | H70: =(('Pag2'!F8-('Pag2'!F32+'Pag2'!F31))*1000)/('Pag7'!F16*H67*24) -> 0.79269516 | I70: =(('Pag2'!G8-('Pag2'!G32+'Pag2'!G31))*1000)/('Pag7'!G16*I67*24) -> 0.79471691 | J70: =(('Pag2'!H8-('Pag2'!H32+'Pag2'!H31))*1000)/('Pag7'!H16*J67*24) -> 0.79680478 | K70: =(('Pag2'!I8-('Pag2'!I32+'Pag2'!I31))*1000)/('Pag7'!I16*K67*24) -> 0.78774421 | ... O70: =(('Pag2'!M8-('Pag2'!M32+'Pag2'!M31))*1000)/('Pag7'!M16*O67*24) -> 0.77234593 | P70: =AVERAGE(D70:O70) -> 0.78578632
A71: RENACE II | B71: 2
A72: RENACE IV | B72: 2
A73: EL RECREO | B73: 2
A74: PROYECTO EÓLICO LAS CUMBRES DE AGUA BLANCA | B74: 2
A75: EL CAFETAL | B75: 1
A76: GDR HIDROELÉCTRICA LOS PATOS | B76: 1
A77: LAS FUENTES II | B77: 1
A78: RIO BOBOS | B78: 1
A79: MAGDALENA BLOQUE 4 | B79: 1
A80: HIDROAGUNÁ | B80: 1
A81: ORZUNIL | B81: 1
A82: CANDELARIA | B82: 1
... A87: Total general | B87: 8760
B89: =SUM(B6:B88) -> 17520
C93: Enero | D93: Febrero | E93: Marzo | F93: Abril | G93: Mayo | H93: Junio | I93: Julio | J93: Agosto | K93: Septiembre | L93: Octubre | M93: Noviembre | N93: Diciembre
C94: ='Pag2'!B5 -> 1071.5509 | D94: ='Pag2'!C5 -> 990.00915 | E94: ='Pag2'!D5 -> 1181.3614 | F94: ='Pag2'!E5 -> 1129.7301 | G94: ='Pag2'!F5 -> 1136.9156 | H94: ='Pag2'!G5 -> 1058.6954 | I94: ='Pag2'!H5 -> 1087.6723 | J94: ='Pag2'!I5 -> 1121.1981 | ... N94: ='Pag2'!M5 -> 1156.7305
C95: ='Pag2'!B6 -> 162.12359 | D95: ='Pag2'!C6 -> 176.50812 | E95: ='Pag2'!D6 -> 189.57312 | F95: ='Pag2'!E6 -> 165.44033 | G95: ='Pag2'!F6 -> 228.01882 | H95: ='Pag2'!G6 -> 207.95297 | I95: ='Pag2'!H6 -> 247.43193 | J95: ='Pag2'!I6 -> 231.2244 | ... N95: ='Pag2'!M6 -> 170.28444
C96: ='Pag5'!$D77 -> 60.683131 | D96: ='Pag5'!$D78 -> 73.980168 | E96: ='Pag5'!$D79 -> 91.511173 | F96: ='Pag5'!$D80 -> 106.82619 | G96: ='Pag5'!$D81 -> 124.06739 | H96: ='Pag5'!$D82 -> 79.599391 | I96: ='Pag5'!$D83 -> 84.451048 | J96: ='Pag5'!$D84 -> 87.242708 | K96: ='Pag5'!$D85 -> 84.584015 | L96: ='Pag5'!$D86 -> 73.727422 | M96: ='Pag5'!$D87 -> 72.299083 | N96: ='Pag5'!$D88 -> 75.207687
B98: 2019
B99: Producción
...

Sheet Pag9
B2: Comportamiento del Factor de Pérdida Nodal de Energía para las Centrales Generadoras 2025
B107: NOTA: LA MODIFICACIÓN DE LOS PARÁMETROS DE LAS CENTRALES Y DE LAS LÍNEAS DE TRANSMISIÓN DEL SISTEMA NACIONAL INTERCONECTADO PUEDEN HACER VARIAR EL FACTOR DE PÉRDIDA NODAL DE LA ENERGÍA. LOS VALORES REPRESENTAN DÁS TÍPICOS DE LA ÉPOCA INDICADA

Sheet Pag10
A1: INDICADORES
A37: Marca X - Frecuencia | B37: Probabilidad
A38: 59 | C38: 1.26839e-07
A39: 59.1 | C39: 1.26839e-07
A40: 59.2 | C40: 1.395231e-06
A41: 59.3 | C41: 1.902587e-06
A42: 59.4 | C42: 2.663622e-06
A43: 59.5 | C43: 3.170979e-06
A44: 59.6 | C44: 1.1415526e-05
A45: 59.7 | C45: 3.0821921e-05
A46: 59.8 | C46: 9.7412493e-05
A47: 59.9 | B47: 0.0039874434 | C47: 0.0039874434
A48: 60 | B48: 0.98727613
A49: 60.1 | B49: 0.0085646891 | C49: 0.0085646891
A50: 60.2 | C50: 1.2937596e-05
A51: 60.3 | C51: 4.946728e-06
A52: 60.4 | C52: 8.87874e-07
A53: 60.5 | C53: 1.52207e-06
A54: 60.6 | C54: 2.53678e-07
A55: 60.7 | C55: 0
A56: 60.8 | C56: 0
A57: 60.9 | C57: 0
A58: 61 | C58: 0
A69: * NOTA: EN LA GRÁFICA SE MUESTRA EL VALOR DE LA FRECUENCIA PARA CADA MINUTO DEL AÑO, REGISTRO TOMADO DEL SISTEMA SCADA. EL PORCENTAJE REPRESENTA EL TIEMPO DE OPERACIÓN DEL SISTEMA NACIONAL INTERCONECTADO DURANTE EL AÑO.
A79: 2020 | B79: ENE | C79: FEB | D79: MAR | E79: ABR | F79: MAY | G79: JUN | H79: JUL | I79: AGO | J79: SEP | K79: OCT | L79: NOV | M79: DIC | N79: Total
A80: % ± .10hZ | B80: 0.9999537 | C80: 0.99982308 | D80: 0.99929958 | E80: 0.99944444 | F80: 0.99991039 | G80: 0.99979321 | H80: 0.9988859 | I80: 0.99960872 | J80: 0.99976852 | K80: 0.99948925 | L80: 0.99992593 | M80: 0.99983124 | N80: =AVERAGE(B80:M80) -> 0.9996445
A81: % ± .20hZ | B81: 1 | C81: 0.99997685 | D81: 0.99970878 | E81: 0.99991512 | F81: 0.99998208 | G81: 0.9999892 | H81: 0.99959677 | I81: 0.9998865 | J81: 0.99994907 | K81: 0.99988351 | L81: 0.99999846 | M81: 0.99995072 | N81: =AVERAGE(B81:M81) -> 0.99990309

Sheet Pag11
A1: INFORMACIÓN ESTADÍSTICA HISTÓRICA
B2: 2019 | C2: 2020 | D2: 2021 | E2: 2022 | F2: 2023 | G2: 2024 | H2: 2025
A3: PRODUCCIÓN CON INTER | B3: 13368.759 | C3: 12206.631 | D3: 13172.536 | E3: 13505.509 | F3: 14167.142 | G3: 14980.287 | H3: 15755.611
A4: PRODUCCIÓN SIN INTER | B4: 12228.232 | C4: 11122.028 | D4: 11943.078 | E4: 12024.716 | F4: 12222.89 | G4: 13117.407 | H4: 13308.411
A5: DEMANDA CON INTER | B5: 12778.323 | C5: 11643.213 | D5: 12738.166 | E5: 13027.892 | F5: 13699.911 | G5: 14522.662 | H5: 15203.089
A6: DEMANDA SIN INTER | B6: 10676.455 | C6: 10579.727 | D6: 11549.548 | E6: 11923.944 | F6: 12635.657 | G6: 13496.289 | H6: 14042.014
H7: =(H6-G6)/G6 -> 0.040435222
B45: 2019 | C45: 2020 | D45: 2021 | E45: 2022 | F45: 2023 | G45: 2024 | H45: 2025
A46: EXPORTACIONES | B46: 2101.8678 | C46: 1063.4858 | D46: 1115.7532 | E46: 1035.3797 | F46: 1005.6166 | G46: 969.55605 | H46: 1108.7645
A47: IMPORTACIONES | B47: 1067.6278 | C47: 1007.912 | D47: 1140.9392 | E47: 1413.0687 | F47: 1870.9996 | G47: 1793.9656 | H47: 2387.5414
B86: 2019 | C86: 2020 | D86: 2021 | E86: 2022 | F86: 2023 | G86: 2024 | H86: 2025
A87: DEMANDA SNI | B87: 1785.43 | C87: 1787.16 | D87: 1829.53 | E87: 1923.05 | F87: 1970 | G87: 2121.8 | H87: 2204.22
G88: =(G87-F87)/F87 -> 0.077055838 | H88: =(H87-G87)/G87 -> 0.038844377

Sheet Pag12
A1: INFORMACIÓN ESTADÍSTICA HISTÓRICA
B7: 2019 | C7: 2020 | D7: 2021 | E7: 2022 | F7: 2023 | G7: 2024 | H7: 2025
A8: DP+ | B8: 1098.9212 | C8: 961.53491 | D8: 742.71447 | E8: 657.04338 | F8: 517.55729 | G8: 429.35007 | H8: 439.30438
A9: DP- | B9: 33.382627 | C9: 47.585949 | D9: 39.659074 | E9: 61.740864 | F9: 94.64692 | G9: 123.56521 | H9: 200.04277
A10: PRECIO | B10: 0.27944265 | C10: 0.46463555 | D10: 0.47637688 | E10: 0.8690984 | F10: 1.723889 | G10: 2.6380774 | H10: 4.139
B44: 2019 | C44: 2020 | D44: 2021 | E44: 2022 | F44: 2023 | G44: 2024 | H44: 2025
A45: PROMEDIO MENSUAL | B45: 63.320358 | C45: 42.422595 | D45: 63.360797 | E45: 86.215321 | F45: 105.19749 | G45: 116.46361 | H45: 84.51495
H46: =(H45-G45)/G45 -> -0.27432309
B84: 2019 | C84: 2020 | D84: 2021 | E84: 2022 | F84: 2023 | G84: 2024 | H84: 2025
A85: POE REAL | B85: 63.320358 | C85: 41.15359 | D85: 63.360376 | E85: 86.216667 | F85: 105.19833 | G85: 116.46361 | H85: 84.51495
A86: POE CON REFERENCIA AL AÑO 2000 * | B86: 29.223993 | C86: 18.537687 | D86: 27.279247 | E86: 34.771205 | F86: 40.100949 | G86: 43.152558 | H86: 31.051328
A121: Fuente: Elaborado por la Coordinación de Estudios Económicos (AMM) con base en datos del Banco de Guatemala y Bureau of Labor Statistics, 2025

Sheet Pag13
A1: INFORMACIÓN ESTADÍSTICA HISTÓRICA
C5: 2019 | D5: 2020 | E5: 2021 | F5: 2022 | G5: 2023 | H5: 2024 | I5: 2025
B6: HIDRAÚLICAS | C6: 4381.1295 | D6: 5816.5379 | E6: 5960.293 | F6: 6942.2262 | G6: 5571.8793 | H6: 5334.174 | I6: 5467.8337
B7: TURBINAS DE VAPOR | C7: 3338.8344 | D7: 2043.206 | E7: 2490.514 | F7: 2053.2312 | G7: 2527.9894 | H7: 3487.5642 | I7: 3352.5485
B8: MOTORES RECIPROCANTES | C8: 512.30424 | D8: 259.67583 | E8: 252.68065 | F8: 181.15729 | G8: 551.61919 | H8: 803.42788 | I8: 600.93683
B9: COGENERADORES | C9: 3167.9818 | D9: 2183.907 | E9: 2404.5701 | F9: 2016.9542 | G9: 2688.8328 | H9: 2568.1016 | I9: 2643.6904
B10: IMPORTACIONES | C10: 1140.5264 | D10: 1084.6032 | E10: 1229.4586 | F10: 1480.793 | G10: 1944.252 | H10: 1793.9656 | I10: 2387.5414
B11: GEOTÉRMICAS | C11: 262.13697 | D11: 273.85603 | E11: 264.96828 | F11: 281.9886 | G11: 285.4383 | H11: 275.03643 | I11: 269.05261
B12: EÓLICAS | C12: 330.77654 | D12: 312.68393 | E12: 323.79532 | F12: 313.79509 | G12: 343.95678 | H12: 286.43386 | I12: 342.80115
B13: FOTOVOLTAÍCAS | C13: 233.40522 | D13: 221.50676 | E13: 229.6003 | F13: 219.86656 | G13: 245.91834 | H13: 252.10352 | I13: 530.27603
B14: TURBINAS DE GAS | C14: 1.6637119 | D14: 10.654236 | E14: 16.656233 | F14: 15.496367 | G14: 7.2555829 | H14: 110.56593 | I14: 101.27228
C47: 2019 | D47: 2020 | E47: 2021 | F47: 2022 | G47: 2023 | H47: 2024 | I47: 2025
B48: DISTRIBUIDORES | C48: 7475.6306 | D48: 7421.4218 | E48: 7812.9842 | F48: 8051.5817 | G48: 8543.2798 | H48: 9157.734 | I48: 9608.2978
B49: COMERCIALIZADORES * | C49: 3156.1817 | D49: 3135.4933 | E49: 3608.786 | F49: 3744.1647 | G49: 3971.9421 | H49: 4204.987 | I49: 4398.9963
B50: GRANDES USUARIOS PARTICIPANTES | C50: 44.64273 | D50: 22.812133 | E50: 32.475289 | F50: 30.308143 | G50: 33.002867 | H50: 34.358049 | I50: 34.720144
B51: EXPORTACIONES | C51: 2189.9878 | D51: 1156.03 | E51: 1188.6181 | F51: 1103.9481 | G51: 1064.2541 | H51: 1026.3732 | I51: 1108.7645
B52: PÉRDIDAS | C52: 415.88686 | D52: 377.46522 | E52: 434.37042 | F52: 477.61692 | G52: 467.23069 | H52: 457.63 | I52: 458.0796
B53: CONSUMOS PROPIOS | C53: 86.428966 | D53: 93.408524 | E53: 95.302485 | F53: 97.889055 | G53: 87.432279 | H53: 99.21 | I53: 94.44
A79: * COMERCIALIZADORES: CONSUMO DE GRANDES USUARIOS A TRAVÉS DE COMERCIALIZADORES.
C88: 2019 | D88: 2020 | E88: 2021 | F88: 2022 | G88: 2023 | H88: 2024 | I88: 2025
B89: FACTOR DE CARGA | C89: 0.71473841 | D89: 0.70393107 | E89: 0.7477479 | F89: 0.736176 | G89: 0.75927078 | H89: 0.74868525 | I89: 0.75584238
G92: ENERGIA PRODUCIDA-EXPORTACIONES-DESVIACIONES MER- INADVERTIDA MEX-EXPORTA MER Y MEX DIVIDIDO ENTRE Dmax del año *24*365

Sheet Pag14

Sheet Pag15
A1: PARTICIPACIÓN EN LA PRODUCCIÓN DE ENERGÍA (GWh)
C5: Producción S. N. I. | D5: Importación | E5: Energía Inadvertida y Desviaciones de Importación
B6: ENE | C6: {=TRANSPOSE('Pag2'!B5:M7)} -> 1071.5509 | D6: 162.12359 | E6: 4.7868898
B7: FEB | C7: 990.00915 | D7: 176.50812 | E7: 4.7529684
B8: MAR | C8: 1181.3614 | D8: 189.57312 | E8: 6.202923
B9: ABR | C9: 1129.7301 | D9: 165.44033 | E9: 6.0830385
B10: MAY | C10: 1136.9156 | D10: 228.01882 | E10: 5.0187717
B11: JUN | C11: 1058.6954 | D11: 207.95297 | E11: 4.5986726
B12: JUL | C12: 1087.6723 | D12: 247.43193 | E12: 5.2168829
B13: AGO | C13: 1121.1981 | D13: 231.2244 | E13: 4.8256582
B14: SEP | C14: 1127.7605 | D14: 188.00836 | E14: 4.8467277
B15: OCT | C15: 1155.28 | D15: 211.16445 | E15: 4.9257122
B16: NOV | C16: 1091.5076 | D16: 209.81088 | E16: 3.7622573
B17: DIC | C17: 1156.7305 | D17: 170.28444 | E17: 4.6376219
B18: TOTAL | C18: #N/A | D18: #N/A | E18: #N/A
B33: 45785 | C33: 45785 | D33: 45785
B34: =CONCATENATE("OTROS** ",B59,"%") -> OTROS** 18.06% | C34: =CONCATENATE("HIDRAULICA ",C59,"%") -> HIDRAULICA 18.28% | D34: =CONCATENATE("TÉRMICA ",D59,"%") -> TÉRMICA 63.67%
A35: 0 | B35: 248.71197 | C35: 277.33974 | D35: 1153.3402
A36: 1 | B36: 212.46693 | C36: 249.33867 | D36: 1126.9097
A37: 2 | B37: 183.92728 | C37: 232.39875 | D37: 1116.9697
A38: 3 | B38: 179.08122 | C38: 206.94042 | D38: 1133.9614
A39: 4 | B39: 209.99672 | C39: 280.61134 | D39: 1130.5423
A40: 5 | B40: 221.13993 | C40: 277.94449 | D40: 1193.0575
A41: 6 | B41: 349.49452 | C41: 298.13194 | D41: 1204.3364
A42: 7 | B42: 460.50405 | C42: 313.54526 | D42: 1198.3724
A43: 8 | B43: 473.21033 | C43: 431.56309 | D43: 1201.6787
A44: 9 | B44: 488.20314 | C44: 466.32515 | D44: 1222.5918
A45: 10 | B45: 517.81445 | C45: 440.20753 | D45: 1270.4451
A46: 11 | B46: 522.43673 | C46: 447.85946 | D46: 1305.5279
... A58: 23 | B58: 234.54062 | C58: 233.40266 | D58: 1176.4959
A59: % | B59: =ROUND(SUM(B35:B58)/SUM($B$35:$D$58)*100,2) -> 18.06 | C59: =ROUND(SUM(C35:C58)/SUM($B$35:$D$58)*100,2) -> 18.28 | D59: =ROUND(SUM(D35:D58)/SUM($B$35:$D$58)*100,2) -> 63.67
B60: 45924 | C60: 45924 | D60: 45924
A61: maxhidr | B61: =CONCATENATE("OTROS** ",B86,"%") -> OTROS** 19.19% | C61: =CONCATENATE("HIDRAULICA ",C86,"%") -> HIDRAULICA 60.1% | D61: =CONCATENATE("TÉRMICA ",D86,"%") -> TÉRMICA 20.71%
A62: 0 | B62: 127.19898 | C62: 1188.3493 | D62: 298.77984
A63: 1 | B63: 194.00099 | C63: 1083.2409 | D63: 287.82429
A64: 2 | B64: 206.40739 | C64: 1066.811 | D64: 266.22041
A65: 3 | B65: 272.02983 | C65: 1006.802 | D65: 262.58095
A66: 4 | B66: 298.43011 | C66: 1035.9314 | D66: 265.8764
A67: 5 | B67: 322.85717 | C67: 1137.9838 | D67: 270.92739
A68: 6 | B68: 386.12089 | C68: 1172.0415 | D68: 291.5052
...

Sheet Pag16
A1: PARTICIPACIÓN EN EL CONSUMO DE ENERGÍA (GWh)
C4: GWH | D4: %
B5: DISTRIBUIDORES | C5: ='Pag2'!C40 -> 9608.2978 | D5: =C5/$C$13 -> 0.60983347 | E5: =D5 -> 0.60983347
B6: COMERCIALIZADORES **** | C6: ='Pag2'!C41 -> 4398.9963 | D6: =C6/$C$13 -> 0.27920192 | E6: =D6 -> 0.27920192
B7: EXPORTACIONES MER | C7: ='Pag7'!N8 -> 1105.5515 | D7: =C7/$C$13 -> 0.070168759 | E7: =D7 -> 0.070168759
B8: EXPORTACIONES MÉXICO | C8: ='Pag7'!N9 -> 3.213 | D8: =C8/$C$13 -> 0.00020392738 | E8: =D8 -> 0.00020392738
B9: PÉRDIDAS | C9: ='Pag2'!C44 -> 458.0796 | D9: =C9/$C$13 -> 0.029074065 | E9: =D9 -> 0.029074065
B10: - DESVIACIONES *** | C10: ='Pag2'!C46 -> 52.310719 | D10: =C10/$C$13 -> 0.0033201331 | E10: =D10 -> 0.0033201331
B11: CONSUMOS PROPIOS | C11: ='Pag2'!C42 -> 94.44 | D11: =C11/$C$13 -> 0.0059940558 | E11: =D11 -> 0.0059940558
B12: GRANDES USUARIOS PARTICIPANTES | C12: ='Pag2'!C43 -> 34.720144 | D12: =C12/$C$13 -> 0.0022036688 | E12: =D12 -> 0.0022036688
B13: TOTAL | C13: =SUM(C5:C12) -> 15755.609 | D13: =SUM(D5:D12) -> 1 | E13: =SUM(E5:E12) -> 1
A31: ****COMERCIALIZADORES: CONSUMO DE GRANDES USUARIOS A TRAVÉS DE COMERCIALIZADORES.
B41: ENE | C41: FEB | D41: MAR | E41: ABR | F41: MAY | G41: JUN | H41: JUL | I41: AGO | J41: SEP | K41: OCT | L41: NOV | M41: DIC
A42: Consumo S.N.I. | B42: ='Pag2'!B30 -> 1129.2578 | C42: ='Pag2'!C30 -> 1054.6632 | D42: ='Pag2'!D30 -> 1211.8481 | E42: ='Pag2'!E30 -> 1158.5459 | F42: ='Pag2'!F30 -> 1258.2538 | G42: ='Pag2'!G30 -> 1155.0088 | H42: ='Pag2'!H30 -> 1210.7329 | I42: ='Pag2'!I30 -> 1215.6065 | ... M42: ='Pag2'!M30 -> 1188.721
A43: Exportaciones | B43: ='Pag2'!B31 -> 71.811154 | C43: ='Pag2'!C31 -> 79.790431 | D43: ='Pag2'!D31 -> 119.59065 | E43: ='Pag2'!E31 -> 99.684905 | F43: ='Pag2'!F31 -> 65.581066 | G43: ='Pag2'!G31 -> 74.396952 | H43: ='Pag2'!H31 -> 87.354008 | I43: ='Pag2'!I31 -> 98.220737 | ... M43: ='Pag2'!M31 -> 101.94455
A44: Desviaciones *** | B44: ='Pag2'!B32 -> 4.4628569 | C44: ='Pag2'!C32 -> 3.8672135 | D44: ='Pag2'!D32 -> 4.6181877 | E44: ='Pag2'!E32 -> 3.9565521 | F44: ='Pag2'!F32 -> 4.3999057 | G44: ='Pag2'!G32 -> 4.3245554 | H44: ='Pag2'!H32 -> 4.1859807 | I44: ='Pag2'!I32 -> 3.9041287 | ... M44: ='Pag2'!M32 -> 4.302197
A67: *** Desviaciones y energias inadvertidas de Exportación
C74: =CONCATENATE("EEGSA ",TEXT(C99,"0.0%")) -> EEGSA 28.8% | D74: =CONCATENATE("Comercializadores ",TEXT(D99,"0.0%")) -> Comercializadores 30.8% | E74: =CONCATENATE("DEOCSA ",TEXT(E99,"0.0%")) -> DEOCSA 13.9% | F74: =CONCATENATE("DEORSA ",TEXT(F99,"0.0%")) -> DEORSA 13.8% | G74: =CONCATENATE("Demanda puntos EEMs ",TEXT(G99,"0.0%")) -> Demanda puntos EEMs 7.6% | H74: =CONCATENATE("Consumos Propios ",TEXT(H99,"0.0%")) -> Consumos Propios 0.8% | I74: =CONCATENATE("Grandes Usuarios Participantes ",TEXT(I99,"0.0%")) -> Grandes Usuarios Participantes 0.2% | J74: =CONCATENATE("Exportaciones MER ",TEXT(J99,"0.0%")) -> Exportaciones MER 4.1% | K74: =CONCATENATE("Exportaciones México ",TEXT(K99,"0.0%")) -> Exportaciones México 0.1%
A75: 45054 | B75: 0 | C75: 385.47695 | D75: 519.19726 | E75: 198.93199 | F75: 236.23779 | G75: 116.70503 | H75: 14.612486 | I75: 2.832501 | J75: 66.886 | K75: 0
A76: 45054 | B76: 1 | C76: 359.83051 | D76: 514.11283 | E76: 186.26931 | F76: 225.54083 | G76: 110.27143 | H76: 14.797951 | I76: 2.8619395 | J76: 67.039 | K76: 8
A77: 45054 | B77: 2 | C77: 347.14955 | D77: 523.64999 | E77: 180.17135 | F77: 217.40877 | G77: 105.90163 | H77: 14.820358 | I77: 2.8160074 | J77: 95.823 | K77: 0
A78: 45054 | B78: 3 | C78: 350.8173 | D78: 512.355 | E78: 179.38043 | F78: 212.15049 | G78: 103.35279 | H78: 14.599925 | I78: 2.75496 | J78: 95.823 | K78: 0
A79: 45054 | B79: 4 | C79: 388.99611 | D79: 516.67592 | E79: 184.50339 | F79: 211.32995 | G79: 103.6575 | H79: 14.416995 | I79: 2.8164064 | J79: 81.579 | K79: 32
A80: 45054 | B80: 5 | C80: 443.33168 | D80: 527.76947 | E80: 199.91365 | F80: 211.44519 | G80: 110.62243 | H80: 13.925766 | I80: 3.0017922 | J80: 92.579 | K80: 0
A81: 45054 | B81: 6 | C81: 491.00599 | D81: 561.32218 | E81: 228.6957 | F81: 219.10613 | G81: 127.30759 | H81: 13.798129 | I81: 3.1839263 | J81: 117.379 | K81: 0
A82: 45054 | B82: 7 | C82: 533.18013 | D82: 598.96849 | E82: 247.91069 | F82: 232.02943 | G82: 134.92502 | H82: 14.973571 | I82: 3.7139772 | J82: 117.379 | K82: 0
A83: 45054 | B83: 8 | C83: 582.63076 | D83: 619.75507 | E83: 265.2171 | F83: 251.57062 | G83: 146.0336 | H83: 15.583002 | I83: 4.1431083 | J83: 117.379 | K83: 0
A84: 45054 | B84: 9 | C84: 607.44635 | D84: 630.14101 | E84: 277.9792 | F84: 259.23407 | G84: 151.92617 | H84: 15.561396 | I84: 5.7709482 | J84: 117.379 | K84: 0
A85: 45054 | B85: 10 | C85: 623.29995 | D85: 656.55426 | E85: 280.37177 | F85: 266.51101 | G85: 156.05335 | H85: 15.258593 | I85: 6.3229784 | J85: 103.253 | K85: 0
A86: 45054 | B86: 11 | C86: 639.71952 | D86: 653.8719 | E86: 288.24004 | F86: 273.75334 | G86: 161.9321 | H86: 14.79686 | I86: 6.4704963 | J86: 110.579 | K86: 0
... A98: 45054 | B98: 23 | C98: 440.1692 | D98: 534.2634 | E98: 221.24158 | F98: 246.37101 | G98: 123.96683 | H98: 13.317605 | I98: 2.7136932 | J98: 86.465 | K98: 6
B99: % | C99: =SUM(C75:C98)/$B$100 -> 0.28752216 | D99: =SUM(D75:D98)/$B$100 -> 0.3076478 | E99: =SUM(E75:E98)/$B$100 -> 0.1392707 | F99: =SUM(F75:F98)/$B$100 -> 0.13754126 | G99: =SUM(G75:G98)/$B$100 -> 0.075834958 | H99: =SUM(H75:H98)/$B$100 -> 0.0075300699 | I99: =SUM(I75:I98)/$B$100 -> 0.0021792633 | J99: =SUM(J75:J98)/$B$100 -> 0.041459539 | K99: =SUM(K75:K98)/$B$100 -> 0.0010142418
B100: =SUM(C75:K98) -> 45354.074 | C100: =B100-SUM(J75:K98) -> 43427.715
B101: =B100/1000 -> 45.354074 | C101: =C100/1000 -> 43.427715
A105: *Datos SMEC. Incluye energía de exportación hacía el Mercado Eléctrico Regional y México.

Sheet Pag17
A1: VENTAS DE ENERGÍA EN EL MERCADO DE OPORTUNIDAD (GWh)
A3: PARTICIPANTE | B3: ENE | C3: FEB | D3: MAR | E3: ABR | F3: MAY | G3: JUN | H3: JUL | I3: AGO | J3: SEP | K3: OCT | L3: NOV | M3: DIC | N3: TOTAL
A4: BORAX, S. A. | B4: 12.492032 | C4: 12.315027 | D4: 14.123424 | E4: 6.30639 | F4: 5.6913 | G4: 10.791532 | H4: 18.583022 | I4: 14.871901 | J4: 6.639198 | K4: 16.150749 | L4: 15.208671 | M4: 9.011758 | N4: =SUM(B4:M4) -> 142.185
A5: COMERCIALIZADORA ELECTRONOVA, S. A. | B5: 6.927331 | C5: 14.767741 | D5: 25.932021 | E5: 20.358967 | F5: 21.386054 | G5: 10.215145 | H5: 30.792547 | I5: 24.492283 | J5: 17.916289 | K5: 23.025028 | L5: 28.68454 | M5: 22.143284 | N5: =SUM(B5:M5) -> 246.64123
A6: EMPRESA DE GENERACION DE ENERGIA ELECTRICA DEL INDE | B6: 0 | C6: 0 | D6: 10.567223 | E6: 16.453487 | F6: 7.228856 | G6: 0 | H6: 31.651918 | I6: 0 | J6: 42.64839 | K6: 130.93516 | L6: 24.097691 | M6: 0 | N6: =SUM(B6:M6) -> 263.58272
A7: JAGUAR ENERGY GUATEMALA LLC. | B7: 57.450586 | C7: 61.246979 | D7: 32.731011 | E7: 26.336042 | F7: 35.632729 | G7: 11.085606 | H7: 22.802082 | I7: 22.822248 | J7: 0 | K7: 0 | L7: 7.166761 | M7: 13.990528 | N7: =SUM(B7:M7) -> 291.26457
A8: ORAZUL ENERGY GUATEMALA Y CIA. S. C. A. | B8: 5.791795 | C8: 17.021751 | D8: 37.514523 | E8: 38.76391 | F8: 46.700166 | G8: 28.787473 | H8: 35.341655 | I8: 40.271305 | J8: 23.952905 | K8: 4.180457 | L8: 15.038255 | M8: 0.165634 | N8: =SUM(B8:M8) -> 293.52983
A9: COMPANIA AGRICOLA INDUSTRIAL SANTA ANA, S. A. | B9: 45.17286 | C9: 35.897974 | D9: 38.861496 | E9: 28.958057 | F9: 34.824767 | G9: 19.950316 | H9: 8.081568 | I9: 35.676377 | J9: 12.952063 | K9: 0 | L9: 6.474375 | M9: 36.349744 | N9: =SUM(B9:M9) -> 303.1996
A10: ENERGIAS SAN JOSE, S. A. | B10: 11.835472 | C10: 36.258497 | D10: 40.446937 | E10: 5.670783 | F10: 14.826798 | G10: 45.487192 | H10: 47.470516 | I10: 47.895849 | J10: 40.336368 | K10: 18.154144 | L10: 11.000578 | M10: 0 | N10: =SUM(B10:M10) -> 319.38313
A11: ENERGIA DEL CARIBE, S. A. | B11: 38.860145 | C11: 28.415013 | D11: 13.545599 | E11: 10.054378 | F11: 7.188089 | G11: 33.992438 | H11: 26.248545 | I11: 22.947917 | J11: 40.233131 | K11: 49.667085 | L11: 57.332433 | M11: 40.571612 | N11: =SUM(B11:M11) -> 369.05638
A12: *OTROS | B12: 235.92827 | C12: 149.36877 | D12: 120.59345 | E12: 149.05454 | F12: 227.78703 | G12: 208.74376 | H12: 143.85761 | I12: 161.04282 | J12: 150.36408 | K12: 153.51609 | L12: 143.18354 | M12: 187.76898 | N12: =SUM(B12:M12) -> 2031.2089
A13: TOTAL | B13: =SUM(B4:B12) -> 414.45849 | C13: =SUM(C4:C12) -> 355.29175 | D13: =SUM(D4:D12) -> 334.31568 | E13: =SUM(E4:E12) -> 301.95656 | F13: =SUM(F4:F12) -> 401.26579 | G13: =SUM(G4:G12) -> 369.05346 | H13: =SUM(H4:H12) -> 364.82947 | I13: =SUM(I4:I12) -> 370.0207 | ... N13: =SUM(N4:N12) -> 4260.0514
I14: * OTROS
I15: AGEN, S. A., AGRICOLA LA ENTRADA, S. A., AGRO COMERCIALIZADORA DEL POLOCHIC, S. A., AGRO MOLLER, S. A., AGROFORESTAL EL CEDRO, S. A., AGROGENERADORA, S. A., AGROINDUSTRIAL PIEDRA NEGRA, S. A., AGROPECUARIA ALTORR, S. A., AGROPECUARIA LA LAGUNA, S. A., AGROPROP, S. A., AGUILAR, ARIMANY, ASOCIADOS CONSULTORES, S. A., ALTERNATIVA DE ENERGIA RENOVABLE, S. A., AUMENTA, S. A., BIOMASS ENERGY, S. A., CAMPO TERRAVERDE, S. A., CAUDALES RENOVABLES S. A., CENIT, S. A., CENTRAL AGRO INDUSTRIAL GUATEMALTECA, S. A., CENTRAL COMERCIALIZADORA DE ENERGIA ELECTRICA, S.A., CENTRAL HIDROELECTRICA SULIN, S. A., CEPAM GT, S. A., CINCO M, S. A., CITY PETEN, S. DE R. L., COMERCIALIZADORA COMERTITLAN, S. A., COMERCIALIZADORA ELECTRICA DE GUATEMALA, S.A., COMERCIALIZADORA ELECTRICA DEL PACIFICO, S. A., COMERCIALIZADORA ELECTRICA LA UNION, S. A., COMERCIALIZADORA ORAZUL ENERGY DE CENTRO AMERICA, LTDA., COMPAÑÍA DE MONTAJES ELECTROMECANICOS, S. A., CONSORCIO ENERGÉTICO MAAYAT'AAN, S. A., CONSTRUCTORA E INGENIERIA APLICADA, S. A., CORALITO, S. A., CORPORACIÓN DE ELECTRICIDAD CENTROAMERICANA, S. A., COVA ENERGY, S. A., DISTRIBUIDORA DE ELECTRICIDAD DE OCCIDENTE, S. A., DISTRIBUIDORA DE ELECTRICIDAD DE ORIENTE, S. A., ECOENER SOL DE ESCUINTLA, S. A., ECOENER SOL DEL PUERTO, S. A., ECONOENERGÍA, S. A., ECONOGENERACION, S. A., EDECSA-GT, S. A., EL PILAR, S. A., ELECTRIC POWER MARKETS, S. A., ELECTRO GENERACION, S. A., EMPRESA DE COMERCIALIZACION DE ENERGIA ELECTRICA DEL INDE, ENERGÍA DE LA TIERRA, S. A., ENERGIA LIMPIA DE GUATEMALA, S. A., ENERGIA NACIONAL, S. A., ENERGIA RENOVABLE SANTA TERESA, S. A., ENERGIAS DEL OCOSITO, S. A., ENERGIAS RENOVABLES AMLO, S. A., ENLACE MAC, S. A., EOLICO SAN ANTONIO EL SITIO, S.A., ESI, S. A., FOTON, S. A., GADISSA, S. A., GENEPAL, S. A., GENERADORA DE ENERGIA EL PRADO, S. A., GENERADORA DE OCCIDENTE, LTDA., GENERADORA DEL ESTE, S. A., GENERADORA ELECTRICA LA PAZ, S. A., GRAVITAS SUN HARVEST, S. A., GRUPO CUTZÁN, S. A., GRUPO GENERADOR DE ORIENTE, S. A., GUATEMALA SOLAR GROUP, S. A., HALUM, S. A., HIDRO JUMINA, S. A., HIDRO VICTORIA, S. A., HIDRO XACBAL, HIDROELÉCTRICA CARMEN AMALIA, S. A., HIDROELECTRICA COVADONGA, S. A., HIDROELECTRICA EL BROTE, S. A., HIDROELECTRICA EL COBANO, S. A., HIDROELECTRICA EL COROZO, HIDROELECTRICA RAAXHA, S. A., HIDROELECTRICA SAC-JA, S. A., HIDROELECTRICA SAMUC, S. A., HIDROELECTRICA SANTA ANITA, S.A., HIDROELECTRICAS DEL MOPA, S. A., HIDROLECT, S. A., HIDROPOWER SDMM, S. A., HIDROXOCOBIL, S. A., IELOU ENERGY, S. A., INGENIO LA UNION, S.A., INGENIO MAGDALENA, S.A., INGENIO PALO GORDO, S. A., INGENIO TULULA, S. A., INVERSIONES ATENAS, S. A., INVERSIONES PASABIEN, S. A., INVERSIONES SUR MAZATE, S. A., ION ENERGY, S. A., LUZ Y FUERZA ELECTRICA DE GUATEMALA, LTDA., MAYORISTAS DE ELECTRICIDAD, S.A., MERELEC GUATEMALA, S. A., OOXOL, S. A., OSCANA, S. A., OXEC II, S. A., OXEC, S. A., PANTALEON ENERGY SOLUTIONS, S. A., PANTALEON, S.A., PAPELES ELABORADOS, S. A., PROVEEDORA DE ENERGIA RENOVABLE PEÑA FLOR, S. A., PUNTA DEL CIELO, S. A., RECURSOS GEOTERMICOS, S. A., REGIONAL ENERGETICA, S. A., RENACE, S. A., RENOVABLES DE GUATEMALA, S. A., SAN DIEGO, S. A., SANTA CLARA ENERGY, S. A., SERVICIOS COMERCIALES DE ENERGIA, S. A., SOLARIS GUATEMALA, S. A., TECNOGUAT, S. A., TERMICA, S. A., TRANSMISIÓN DE ELECTRICIDAD, S. A., TUNCAJ, S. A., UNO Y SIETE, S. A., VIENTO BLANCO, S. A., VISION DE AGUILA, S. A., VITOL ELECTRICIDAD DE GUATEMALA, S. A., WAK, S. A., WATTSMARKET, S. A., XOLHUITZ PROVIDENCIA, S. A.
C17: TOTAL
B18: =A4 -> BORAX, S. A. | C18: =N4 -> 142.185 | D18: =E18 -> 0.033376359 | E18: =C18/$C$27 -> 0.033376359
B19: =A5 -> COMERCIALIZADORA ELECTRONOVA, S. A. | C19: =N5 -> 246.64123 | D19: =E19 -> 0.057896304 | E19: =C19/$C$27 -> 0.057896304
B20: =A6 -> EMPRESA DE GENERACION DE ENERGIA ELECTRICA DEL INDE | C20: =N6 -> 263.58272 | D20: =E20 -> 0.061873131 | E20: =C20/$C$27 -> 0.061873131
B21: =A7 -> JAGUAR ENERGY GUATEMALA LLC. | C21: =N7 -> 291.26457 | D21: =E21 -> 0.06837114 | E21: =C21/$C$27 -> 0.06837114
B22: =A8 -> ORAZUL ENERGY GUATEMALA Y CIA. S. C. A. | C22: =N8 -> 293.52983 | D22: =E22 -> 0.068902884 | E22: =C22/$C$27 -> 0.068902884
B23: =A9 -> COMPANIA AGRICOLA INDUSTRIAL SANTA ANA, S. A. | C23: =N9 -> 303.1996 | D23: =E23 -> 0.071172755 | E23: =C23/$C$27 -> 0.071172755
B24: =A10 -> ENERGIAS SAN JOSE, S. A. | C24: =N10 -> 319.38313 | D24: =E24 -> 0.074971662 | E24: =C24/$C$27 -> 0.074971662
B25: =A11 -> ENERGIA DEL CARIBE, S. A. | C25: =N11 -> 369.05638 | D25: =E25 -> 0.086631909 | E25: =C25/$C$27 -> 0.086631909
B26: =A12 -> *OTROS | C26: =N12 -> 2031.2089 | D26: =E26 -> 0.47680386 | E26: =C26/$C$27 -> 0.47680386
B27: =A13 -> TOTAL | C27: =N13 -> 4260.0514 | D27: =SUM(D18:D26) -> 1 | E27: =SUM(E18:E26) -> 1
A42: COMPRAS DE ENERGÍA EN EL MERCADO DE OPORTUNIDAD (GWh)
A44: PARTICIPANTE | B44: ENE | C44: FEB | D44: MAR | E44: ABR | F44: MAY | G44: JUN | H44: JUL | I44: AGO | J44: SEP | K44: OCT | L44: NOV | M44: DIC | N44: TOTAL
A45: BIOMASS ENERGY, S. A. | B45: 6.56137 | C45: 13.255737 | D45: 3.908734 | E45: 0 | F45: 0 | G45: 0 | H45: 0 | I45: 0 | J45: 27.335294 | K45: 40.715255 | L45: 14.967106 | M45: 23.474826 | N45: =SUM(B45:M45) -> 130.21832
A46: COMERCIALIZADORA ELECTRICA DE GUATEMALA, S.A. | B46: 22.818788 | C46: 23.66515 | D46: 12.612737 | E46: 3.787372 | F46: 14.253499 | G46: 28.932397 | H46: 22.373224 | I46: 24.165414 | J46: 12.327097 | K46: 15.716899 | L46: 8.314909 | M46: 0 | N46: =SUM(B46:M46) -> 188.96749
A47: CENTRAL COMERCIALIZADORA DE ENERGIA ELECTRICA, S.A. | B47: 27.81846 | C47: 26.600017 | D47: 32.907861 | E47: 28.972647 | F47: 8.965719 | G47: 6.7101386 | H47: 9.890646 | I47: 7.537174 | J47: 16.409204 | K47: 16.40822 | L47: 13.261254 | M47: 15.22471 | N47: =SUM(B47:M47) -> 210.70605
A48: RENACE, S. A. | B48: 0 | C48: 13.902235 | D48: 0.108793 | E48: 8.141845 | F48: 25.213793 | G48: 0.416601 | H48: 38.211864 | I48: 58.005273 | J48: 36.683071 | K48: 27.960948 | L48: 7.891621 | M48: 0 | N48: =SUM(B48:M48) -> 216.53604
A49: DISTRIBUIDORA DE ELECTRICIDAD DE OCCIDENTE, S. A. | B49: 69.172969 | C49: 48.106501 | D49: 34.152213 | E49: 28.306494 | F49: 16.583501 | G49: 5.2441054 | H49: 0 | I49: 0 | J49: 0 | K49: 0 | L49: 0 | M49: 26.025839 | N49: =SUM(B49:M49) -> 227.59162
A50: COMERCIALIZADORA ELECTRONOVA, S. A. | B50: 6.2032807 | C50: 10.810105 | D50: 15.284957 | E50: 12.180363 | F50: 14.370622 | G50: 28.10588 | H50: 34.70927 | I50: 26.468639 | J50: 42.922398 | K50: 28.98561 | L50: 7.867417 | M50: 11.056191 | N50: =SUM(B50:M50) -> 238.96473
A51: DISTRIBUIDORA DE ELECTRICIDAD DE ORIENTE, S. A. | B51: 47.478413 | C51: 38.196166 | D51: 43.576074 | E51: 38.683791 | F51: 49.565958 | G51: 25.530727 | H51: 2.4490012 | I51: 3.6781029 | J51: 4.2090492 | K51: 0.53128875 | L51: 0 | M51: 1.1882303 | N51: =SUM(B51:M51) -> 255.0868
